Workbook

Sheet Лист1
A1: Информация о плановых перерывах в передаче электрической энергии
A2: в связи с проведением ремонтных работ на объектах электросетевого хозяйства АО «Электросети Кубани»
A4: № пп | B4: Город | C4: Населенный пункт | D4: Дата отключения | E4: Наименование сетевой компании | F4: Направление (РЭС, ПС, ТП) | G4: Наименование юридического лица потребителя/ Контактный номер телефона потребителя | H4: Адрес (город, улицы, районы) отключенных от электроснабжения потребителей | I4: Время отключения | J4: Причина отключения
A5: 1 | B5: Тимашевск | C5: Тимашевск | D5: 11.09.2026г. | E5: АО""Электросети Кубани" "Тимашевскэлектросеть" | F5: ТП - 12 прс 2 | G5: Автошкола За рулем 50 лет Октября 186/1,маг.Хоум ул.Пролетарская 35 | H5: Ул. Пролетарская 23 - 53,28 - 60 Ул. 50лет-Октября 186 - 208,203 | I5: 09:00-12:00 | J5: Выпровка Опор
A6: 2 | B6: Тимашевск | C6: Тимашевск | D6: =D5 -> 11.09.2026г. | E6: АО""Электросети Кубани" "Тимашевскэлектросеть" | F6: ТП - 204 прс 3 | G6: ЮГ-ЭМ; Вайлдберриз ул. Красная 23 | H6: Ул.Красная 4 - 4Б,3 - 25 Ул.Котляра 261 - 263 Пер.Красный 1 - 9, Ул.Ленина 66 | I6: 09:00-12:00 | J6: Замена учета
A7: 3 | B7: Тимашевск | C7: Тимашевск | D7: =D6 -> 11.09.2026г. | E7: АО""Электросети Кубани" "Тимашевскэлектросеть" | F7: ТП - 161 прс 1 | G7: маг. "Радуга" Новаторов 7а,БМВ М Юг Новаторов 23 а,Мясной магазин Новаторов 19 (бывшее кафе Маяк) | H7: Ул.Кавказская.7 - 17,4 - 16 Ул.Новаторов. 7 - 30 | I7: 13:00-15:30 | J7: Замена учета
A8: 4 | B8: Тимашевск | C8: Тимашевск | D8: =D7 -> 11.09.2026г. | E8: АО""Электросети Кубани" "Тимашевскэлектросеть" | I8: 15:30-17:00 | J8: Замена учета
A9: 5 | B9: Тимашевск | C9: Тимашевск | D9: =D8 -> 11.09.2026г. | E9: АО""Электросети Кубани" "Тимашевскэлектросеть" | I9: 08:30-17:00 | J9: Обрезка ДКР
A10: 6 | B10: Тимашевск | C10: Тимашевск | D10: =D9 -> 11.09.2026г. | E10: АО""Электросети Кубани" "Тимашевскэлектросеть" | F10: ВЛ фид Т - 2 от ТП -18 до ТП - 102 | G10: нет | H10: нет | I10: 08:30-18:00 | J10: Реконструкция Вл
A11: 7 | B11: Тимашевск | C11: Тимашевск | D11: =D10 -> 11.09.2026г. | E11: АО""Электросети Кубани" "Тимашевскэлектросеть" | F11: ВЛ фид Т - 2 от ТП -18 до ТП - 94 | G11: нет | H11: нет | I11: 16:00-17:00 | J11: Реконструкция Вл
A12: 8 | B12: Тимашевск | C12: Тимашевск | D12: =D11 -> 11.09.2026г. | E12: АО""Электросети Кубани" "Тимашевскэлектросеть"
A13: 9 | B13: Тимашевск | C13: Тимашевск | D13: =D12 -> 11.09.2026г. | E13: АО""Электросети Кубани" "Тимашевскэлектросеть"
A14: 10 | B14: Тимашевск | C14: Тимашевск | D14: =D13 -> 11.09.2026г. | E14: АО""Электросети Кубани" "Тимашевскэлектросеть"
A15: 11 | B15: Тимашевск | C15: Тимашевск | D15: =D14 -> 11.09.2026г. | E15: АО""Электросети Кубани" "Тимашевскэлектросеть"
F47: =Лист1!I13 -> 0

Sheet Лист2
C1: Информация о ПО на | E1: =Лист1!D5 -> 11.09.2026г.
A2: наряд № | B2: ТП/Объект | C2: описание | D2: адрес откл. | F2: время действия наряда
B3: =Лист1!F5 -> ТП - 12 прс 2 | C3: =Лист1!J5 -> Выпровка Опор | D3: =Лист1!H5 -> Ул. Пролетарская 23 - 53,28 - 60 Ул. 50лет-Октября 186 - 208,203 | F3: =Лист1!I5 -> 09:00-12:00
A4: производителль работ | F4: подготовка | G4: допуск | H4: закрытие
A6: наряд № | B6: ТП/Объект | C6: описание | D6: адрес откл. | F6: время действия наряда
B7: =Лист1!F6 -> ТП - 204 прс 3 | C7: =Лист1!J6 -> Замена учета | D7: =Лист1!H6 -> Ул.Красная 4 - 4Б,3 - 25 Ул.Котляра 261 - 263 Пер.Красный 1 - 9, Ул.Ленина 66 | F7: =Лист1!I6 -> 09:00-12:00
A8: производителль работ | F8: подготовка | G8: допуск | H8: закрытие
A10: наряд № | B10: ТП/Объект | C10: описание | D10: адрес откл. | F10: время действия наряда
B11: =Лист1!F7 -> ТП - 161 прс 1 | C11: =Лист1!J7 -> Замена учета | D11: =Лист1!H7 -> Ул.Кавказская.7 - 17,4 - 16 Ул.Новаторов. 7 - 30 | F11: =Лист1!I7 -> 13:00-15:30
A12: производителль работ | F12: подготовка | G12: допуск | H12: закрытие
A14: наряд № | B14: ТП/Объект | C14: описание | D14: адрес откл. | F14: время действия наряда
B15: =Лист1!F8 -> 0 | C15: =Лист1!J8 -> Замена учета | D15: =Лист1!H8 -> 0 | F15: =Лист1!I8 -> 15:30-17:00
A16: производителль работ | F16: подготовка | G16: допуск | H16: закрытие
A18: наряд № | B18: ТП/Объект | C18: описание | D18: адрес откл. | F18: время действия наряда
B19: =Лист1!F9 -> 0 | C19: =Лист1!J9 -> Обрезка ДКР | D19: =Лист1!H9 -> 0 | F19: =Лист1!I9 -> 08:30-17:00
A20: производителль работ | F20: подготовка | G20: допуск | H20: закрытие
A22: наряд № | B22: ТП/Объект | C22: описание | D22: адрес откл. | F22: время действия наряда
B23: =Лист1!F10 -> ВЛ фид Т - 2 от ТП -18 до ТП - 102 | C23: =Лист1!J10 -> Реконструкция Вл | D23: =Лист1!H10 -> нет | F23: =Лист1!I10 -> 08:30-18:00
A24: производителль работ | F24: подготовка | G24: допуск | H24: закрытие
A26: наряд № | B26: ТП/Объект | C26: описание | D26: адрес откл. | F26: время действия наряда
B27: =Лист1!F11 -> ВЛ фид Т - 2 от ТП -18 до ТП - 94 | C27: =Лист1!J11 -> Реконструкция Вл | D27: =Лист1!H11 -> нет | F27: =Лист1!I11 -> 16:00-17:00
A28: производителль работ | F28: подготовка | G28: допуск | H28: закрытие
A30: наряд № | B30: ТП/Объект | C30: описание | D30: адрес откл. | F30: время действия наряда
B31: =Лист1!F12 -> 0 | D31: =Лист1!H12 -> 0 | F31: =Лист1!I12 -> 0
A32: производителль работ | F32: подготовка | G32: допуск | H32: закрытие
A34: наряд № | B34: ТП/Объект | C34: описание | D34: адрес откл. | F34: время действия наряда
B35: =Лист1!F13 -> 0 | D35: =Лист1!H13 -> 0 | F35: =Лист1!I13 -> 0
A36: производителль работ | F36: подготовка | G36: допуск | H36: закрытие
A38: наряд № | B38: ТП/Объект | C38: описание | D38: адрес откл. | F38: время действия наряда
B39: =Лист1!F14 -> 0 | D39: =Лист1!H14 -> 0 | F39: =Лист1!I14 -> 0
A40: производителль работ | F40: подготовка | G40: допуск | H40: закрытие
A42: наряд № | B42: ТП/Объект | C42: описание | D42: адрес откл. | F42: время действия наряда
B43: =Лист1!F15 -> 0 | D43: =Лист1!H15 -> 0 | F43: =Лист1!I15 -> 0
A44: производителль работ | F44: подготовка | G44: допуск | H44: закрытие
